BEGIN:VCALENDAR
VERSION:2.0
PRODID:-//Transfiguration of Christ Greek Orthodox Church - ECPv6.13.2.1//NONSGML v1.0//EN
CALSCALE:GREGORIAN
METHOD:PUBLISH
X-WR-CALNAME:Transfiguration of Christ Greek Orthodox Church
X-ORIGINAL-URL:https://transfigurationcorona.com
X-WR-CALDESC:Events for Transfiguration of Christ Greek Orthodox Church
REFRESH-INTERVAL;VALUE=DURATION:PT1H
X-Robots-Tag:noindex
X-PUBLISHED-TTL:PT1H
BEGIN:VTIMEZONE
TZID:America/New_York
BEGIN:DAYLIGHT
TZOFFSETFROM:-0500
TZOFFSETTO:-0400
TZNAME:EDT
DTSTART:20260308T070000
END:DAYLIGHT
BEGIN:STANDARD
TZOFFSETFROM:-0400
TZOFFSETTO:-0500
TZNAME:EST
DTSTART:20261101T060000
END:STANDARD
END:VTIMEZONE
BEGIN:VEVENT
DTSTART;TZID=America/New_York:20260412T110000
DTEND;TZID=America/New_York:20260412T123000
DTSTAMP:20260425T121843
CREATED:20260405T002123Z
LAST-MODIFIED:20260405T002124Z
UID:3694-1775991600-1775997000@transfigurationcorona.com
SUMMARY:Great Vespers of Pascha (AGAPE) | EASTER SUNDAY
DESCRIPTION:
URL:https://transfigurationcorona.com/event/great-vespers-of-pascha-agape-easter-sunday/
LOCATION:Transfiguration of Christ Greek Orthodox Church\, 38-05 98th Street\, Corona\, New York\, 11368
END:VEVENT
BEGIN:VEVENT
DTSTART;TZID=America/New_York:20260412T000000
DTEND;TZID=America/New_York:20260412T020000
DTSTAMP:20260425T121843
CREATED:20260405T002038Z
LAST-MODIFIED:20260405T002038Z
UID:3692-1775952000-1775959200@transfigurationcorona.com
SUMMARY:Service of the Resurrection of our Lord and immediately following Orthros and Divine Liturgy of the Resurrection | HOLY SATURDAY
DESCRIPTION:
URL:https://transfigurationcorona.com/event/service-of-the-resurrection-of-our-lord-and-immediately-following-orthros-and-divine-liturgy-of-the-resurrection-holy-saturday/
LOCATION:Transfiguration of Christ Greek Orthodox Church\, 38-05 98th Street\, Corona\, New York\, 11368
END:VEVENT
BEGIN:VEVENT
DTSTART;TZID=America/New_York:20260411T230000
DTEND;TZID=America/New_York:20260411T235900
DTSTAMP:20260425T121843
CREATED:20260405T001925Z
LAST-MODIFIED:20260405T001925Z
UID:3690-1775948400-1775951940@transfigurationcorona.com
SUMMARY:Canon of Holy Saturday | HOLY SATURDAY
DESCRIPTION:
URL:https://transfigurationcorona.com/event/canon-of-holy-saturday-holy-saturday/
LOCATION:Transfiguration of Christ Greek Orthodox Church\, 38-05 98th Street\, Corona\, New York\, 11368
END:VEVENT
BEGIN:VEVENT
DTSTART;TZID=America/New_York:20260411T090000
DTEND;TZID=America/New_York:20260411T110000
DTSTAMP:20260425T121843
CREATED:20260405T001820Z
LAST-MODIFIED:20260405T001821Z
UID:3688-1775898000-1775905200@transfigurationcorona.com
SUMMARY:Vesperal Liturgy of St. Basil | HOLY SATURDAY
DESCRIPTION:
URL:https://transfigurationcorona.com/event/vesperal-liturgy-of-st-basil-holy-saturday/
LOCATION:Transfiguration of Christ Greek Orthodox Church\, 38-05 98th Street\, Corona\, New York\, 11368
END:VEVENT
BEGIN:VEVENT
DTSTART;TZID=America/New_York:20260410T210000
DTEND;TZID=America/New_York:20260410T223000
DTSTAMP:20260425T121843
CREATED:20260405T001725Z
LAST-MODIFIED:20260405T001728Z
UID:3686-1775854800-1775860200@transfigurationcorona.com
SUMMARY:Procession of the Epitaphios | HOLY FRIDAY
DESCRIPTION:
URL:https://transfigurationcorona.com/event/procession-of-the-epitaphios-holy-friday/
LOCATION:Transfiguration of Christ Greek Orthodox Church\, 38-05 98th Street\, Corona\, New York\, 11368
END:VEVENT
BEGIN:VEVENT
DTSTART;TZID=America/New_York:20260410T190000
DTEND;TZID=America/New_York:20260410T210000
DTSTAMP:20260425T121843
CREATED:20260405T001544Z
LAST-MODIFIED:20260405T001545Z
UID:3684-1775847600-1775854800@transfigurationcorona.com
SUMMARY:Service of the Epitaphios | HOLY FRIDAY
DESCRIPTION:
URL:https://transfigurationcorona.com/event/service-of-the-epitaphios-holy-friday/
LOCATION:Transfiguration of Christ Greek Orthodox Church\, 38-05 98th Street\, Corona\, New York\, 11368
END:VEVENT
BEGIN:VEVENT
DTSTART;TZID=America/New_York:20260410T110000
DTEND;TZID=America/New_York:20260410T130000
DTSTAMP:20260425T121843
CREATED:20260405T001439Z
LAST-MODIFIED:20260405T001440Z
UID:3682-1775818800-1775826000@transfigurationcorona.com
SUMMARY:Services of the Royal Hours and Apokathelosis (Taking down from the Cross) | HOLY FRIDAY            
DESCRIPTION:
URL:https://transfigurationcorona.com/event/services-of-the-royal-hours-and-apokathelosis-taking-down-from-the-cross-holy-friday/
LOCATION:Transfiguration of Christ Greek Orthodox Church\, 38-05 98th Street\, Corona\, New York\, 11368
END:VEVENT
BEGIN:VEVENT
DTSTART;TZID=America/New_York:20260409T183000
DTEND;TZID=America/New_York:20260409T223000
DTSTAMP:20260425T121843
CREATED:20260405T001309Z
LAST-MODIFIED:20260405T001310Z
UID:3680-1775759400-1775773800@transfigurationcorona.com
SUMMARY:Service of the Passion of Christ | HOLY THURSDAY
DESCRIPTION:
URL:https://transfigurationcorona.com/event/service-of-the-passion-of-christ-holy-thursday/
LOCATION:Transfiguration of Christ Greek Orthodox Church\, 38-05 98th Street\, Corona\, New York\, 11368
END:VEVENT
BEGIN:VEVENT
DTSTART;TZID=America/New_York:20260409T090000
DTEND;TZID=America/New_York:20260409T110000
DTSTAMP:20260425T121843
CREATED:20260405T001212Z
LAST-MODIFIED:20260405T001215Z
UID:3678-1775725200-1775732400@transfigurationcorona.com
SUMMARY:Vesperal Liturgy of St. Basil | HOLY THURSDAY
DESCRIPTION:
URL:https://transfigurationcorona.com/event/vesperal-liturgy-of-st-basil-holy-thursday/
LOCATION:Transfiguration of Christ Greek Orthodox Church\, 38-05 98th Street\, Corona\, New York\, 11368
END:VEVENT
BEGIN:VEVENT
DTSTART;TZID=America/New_York:20260408T190000
DTEND;TZID=America/New_York:20260408T213000
DTSTAMP:20260425T121843
CREATED:20260405T001030Z
LAST-MODIFIED:20260405T001101Z
UID:3675-1775674800-1775683800@transfigurationcorona.com
SUMMARY:Service of the Nyptiras (Washing of the Feet) | HOLY WEDNESDAY
DESCRIPTION:
URL:https://transfigurationcorona.com/event/service-of-the-nyptiras-washing-of-the-feet-holy-wednesday/
LOCATION:Transfiguration of Christ Greek Orthodox Church\, 38-05 98th Street\, Corona\, New York\, 11368
END:VEVENT
BEGIN:VEVENT
DTSTART;TZID=America/New_York:20260408T113000
DTEND;TZID=America/New_York:20260408T140000
DTSTAMP:20260425T121843
CREATED:20260405T000917Z
LAST-MODIFIED:20260405T000917Z
UID:3673-1775647800-1775656800@transfigurationcorona.com
SUMMARY:Sacrament of Holy Unction | HOLY WEDNESDAY
DESCRIPTION:
URL:https://transfigurationcorona.com/event/sacrament-of-holy-unction-holy-wednesday/
LOCATION:Transfiguration of Christ Greek Orthodox Church\, 38-05 98th Street\, Corona\, New York\, 11368
END:VEVENT
BEGIN:VEVENT
DTSTART;TZID=America/New_York:20260407T190000
DTEND;TZID=America/New_York:20260407T210000
DTSTAMP:20260425T121843
CREATED:20260401T041234Z
LAST-MODIFIED:20260401T041235Z
UID:3669-1775588400-1775595600@transfigurationcorona.com
SUMMARY:Service of the Bridegroom | HOLY TUESDAY 
DESCRIPTION:Presided by His Grace Bishop Nektarios of Dioklia.
URL:https://transfigurationcorona.com/event/service-of-the-bridegroom-holy-tuesday/
LOCATION:Transfiguration of Christ Greek Orthodox Church\, 38-05 98th Street\, Corona\, New York\, 11368
END:VEVENT
BEGIN:VEVENT
DTSTART;TZID=America/New_York:20260407T090000
DTEND;TZID=America/New_York:20260407T110000
DTSTAMP:20260425T121843
CREATED:20260401T041023Z
LAST-MODIFIED:20260401T041024Z
UID:3665-1775552400-1775559600@transfigurationcorona.com
SUMMARY:Presanctified Liturgy | HOLY TUESDAY 
DESCRIPTION:
URL:https://transfigurationcorona.com/event/presanctified-liturgy-holy-tuesday/
LOCATION:Transfiguration of Christ Greek Orthodox Church\, 38-05 98th Street\, Corona\, New York\, 11368
END:VEVENT
BEGIN:VEVENT
DTSTART;TZID=America/New_York:20260406T190000
DTEND;TZID=America/New_York:20260406T210000
DTSTAMP:20260425T121843
CREATED:20260401T040902Z
LAST-MODIFIED:20260401T041055Z
UID:3663-1775502000-1775509200@transfigurationcorona.com
SUMMARY:Service of the Bridegroom | HOLY MONDAY 
DESCRIPTION:
URL:https://transfigurationcorona.com/event/service-of-the-bridegroom/
LOCATION:Transfiguration of Christ Greek Orthodox Church\, 38-05 98th Street\, Corona\, New York\, 11368
END:VEVENT
BEGIN:VEVENT
DTSTART;TZID=America/New_York:20260405T120000
DTEND;TZID=America/New_York:20260405T150000
DTSTAMP:20260425T121843
CREATED:20260310T003745Z
LAST-MODIFIED:20260401T002920Z
UID:3523-1775390400-1775401200@transfigurationcorona.com
SUMMARY:Bakaliaros Luncheon (Fully Booked)
DESCRIPTION:This event is now fully booked. We thank everyone for their support. \n\n\n\nContinue the celebration in fellowship with a traditional Bakaliaros luncheon as we honor 100 years of faith\, sacrifice\, and community. \n\n\n\nPhone: 718-458-5251Email: 100Transfiguration@gmail.com
URL:https://transfigurationcorona.com/event/bakaliaros-luncheon-rsvp-required/
LOCATION:Transfiguration of Christ Greek Orthodox Church\, 38-05 98th Street\, Corona\, New York\, 11368
END:VEVENT
BEGIN:VEVENT
DTSTART;TZID=America/New_York:20260405T093000
DTEND;TZID=America/New_York:20260405T113000
DTSTAMP:20260425T121843
CREATED:20260310T003133Z
LAST-MODIFIED:20260310T005855Z
UID:3519-1775381400-1775388600@transfigurationcorona.com
SUMMARY:Palm Sunday Divine Liturgy (Centennial Celebration)
DESCRIPTION:Presided by His Eminence Archbishop Elpidophoros of America. \n\n\n\nOn this historic Palm Sunday\, we commemorate the very day our parish first celebrated the Divine Liturgy in 1926. Join us in prayer and thanksgiving as we mark the beginning of our Centennial celebration.All parishioners\, families\, and friends of the community are warmly invited to attend this historic service.
URL:https://transfigurationcorona.com/event/palm-sunday-divine-liturgy-centennial-celebration/
LOCATION:New York
END:VEVENT
BEGIN:VEVENT
DTSTART;TZID=America/New_York:20260405T080000
DTEND;TZID=America/New_York:20260405T093000
DTSTAMP:20260425T121843
CREATED:20260310T005805Z
LAST-MODIFIED:20260310T005836Z
UID:3517-1775376000-1775381400@transfigurationcorona.com
SUMMARY:Palm Sunday Orthros (Centennial Celebration)
DESCRIPTION:Presided by His Eminence Archbishop Elpidophoros of America.
URL:https://transfigurationcorona.com/event/palm-sunday-orthros-centennial-celebration/
LOCATION:New York
END:VEVENT
BEGIN:VEVENT
DTSTART;TZID=America/New_York:20260330T183000
DTEND;TZID=America/New_York:20260330T193000
DTSTAMP:20260425T121843
CREATED:20260226T184609Z
LAST-MODIFIED:20260226T184609Z
UID:3175-1774895400-1774899000@transfigurationcorona.com
SUMMARY:Great Compline
DESCRIPTION:
URL:https://transfigurationcorona.com/event/great-compline-8/
LOCATION:New York
END:VEVENT
BEGIN:VEVENT
DTSTART;TZID=America/New_York:20260329T100000
DTEND;TZID=America/New_York:20260329T113000
DTSTAMP:20260425T121843
CREATED:20260226T180721Z
LAST-MODIFIED:20260226T182428Z
UID:3140-1774778400-1774783800@transfigurationcorona.com
SUMMARY:Divine Liturgy
DESCRIPTION:
URL:https://transfigurationcorona.com/event/divine-liturgy-5-2-2-3/
LOCATION:New York
END:VEVENT
BEGIN:VEVENT
DTSTART;TZID=America/New_York:20260329T083000
DTEND;TZID=America/New_York:20260329T100000
DTSTAMP:20260425T121843
CREATED:20260226T180636Z
LAST-MODIFIED:20260226T180648Z
UID:3137-1774773000-1774778400@transfigurationcorona.com
SUMMARY:Orthros
DESCRIPTION:
URL:https://transfigurationcorona.com/event/orthros-2-3/
LOCATION:New York
END:VEVENT
BEGIN:VEVENT
DTSTART;TZID=America/New_York:20260327T183000
DTEND;TZID=America/New_York:20260327T203000
DTSTAMP:20260425T121843
CREATED:20260226T184528Z
LAST-MODIFIED:20260226T184529Z
UID:3173-1774636200-1774643400@transfigurationcorona.com
SUMMARY:Akathyst Hymn
DESCRIPTION:
URL:https://transfigurationcorona.com/event/akathyst-hymn/
LOCATION:New York
END:VEVENT
BEGIN:VEVENT
DTSTART;TZID=America/New_York:20260325T090000
DTEND;TZID=America/New_York:20260325T110000
DTSTAMP:20260425T121843
CREATED:20260226T184238Z
LAST-MODIFIED:20260226T184239Z
UID:3171-1774429200-1774436400@transfigurationcorona.com
SUMMARY:Annunciation of the Theotokos
DESCRIPTION:
URL:https://transfigurationcorona.com/event/annunciation-of-the-theotokos/
LOCATION:New York
END:VEVENT
BEGIN:VEVENT
DTSTART;TZID=America/New_York:20260323T183000
DTEND;TZID=America/New_York:20260323T193000
DTSTAMP:20260425T121843
CREATED:20260226T184208Z
LAST-MODIFIED:20260226T184208Z
UID:3169-1774290600-1774294200@transfigurationcorona.com
SUMMARY:Great Compline
DESCRIPTION:
URL:https://transfigurationcorona.com/event/great-compline-7/
LOCATION:New York
END:VEVENT
BEGIN:VEVENT
DTSTART;TZID=America/New_York:20260322T100000
DTEND;TZID=America/New_York:20260322T113000
DTSTAMP:20260425T121843
CREATED:20260226T180330Z
LAST-MODIFIED:20260226T182408Z
UID:3133-1774173600-1774179000@transfigurationcorona.com
SUMMARY:Divine Liturgy
DESCRIPTION:
URL:https://transfigurationcorona.com/event/divine-liturgy-5-2-2/
LOCATION:New York
END:VEVENT
BEGIN:VEVENT
DTSTART;TZID=America/New_York:20260322T083000
DTEND;TZID=America/New_York:20260322T100000
DTSTAMP:20260425T121843
CREATED:20260226T180202Z
LAST-MODIFIED:20260226T180203Z
UID:3065-1774168200-1774173600@transfigurationcorona.com
SUMMARY:Orthros
DESCRIPTION:
URL:https://transfigurationcorona.com/event/orthros-2/
LOCATION:New York
END:VEVENT
BEGIN:VEVENT
DTSTART;TZID=America/New_York:20260320T190000
DTEND;TZID=America/New_York:20260320T203000
DTSTAMP:20260425T121843
CREATED:20260226T184058Z
LAST-MODIFIED:20260226T184058Z
UID:3167-1774033200-1774038600@transfigurationcorona.com
SUMMARY:4th Salutations
DESCRIPTION:
URL:https://transfigurationcorona.com/event/4th-salutations/
LOCATION:New York
END:VEVENT
BEGIN:VEVENT
DTSTART;TZID=America/New_York:20260318T183000
DTEND;TZID=America/New_York:20260318T193000
DTSTAMP:20260425T121843
CREATED:20260226T184012Z
LAST-MODIFIED:20260226T184013Z
UID:3165-1773858600-1773862200@transfigurationcorona.com
SUMMARY:Presanctified Liturgy
DESCRIPTION:
URL:https://transfigurationcorona.com/event/presanctified-liturgy-9/
LOCATION:New York
END:VEVENT
BEGIN:VEVENT
DTSTART;TZID=America/New_York:20260316T183000
DTEND;TZID=America/New_York:20260316T193000
DTSTAMP:20260425T121843
CREATED:20260226T183920Z
LAST-MODIFIED:20260226T183921Z
UID:3163-1773685800-1773689400@transfigurationcorona.com
SUMMARY:Great Compline
DESCRIPTION:
URL:https://transfigurationcorona.com/event/great-compline-6/
LOCATION:New York
END:VEVENT
BEGIN:VEVENT
DTSTART;TZID=America/New_York:20260315T113000
DTEND;TZID=America/New_York:20260315T140000
DTSTAMP:20260425T121843
CREATED:20260226T181758Z
LAST-MODIFIED:20260306T191251Z
UID:3142-1773574200-1773583200@transfigurationcorona.com
SUMMARY:Fasolada Sunday
DESCRIPTION:Lenter Luncheon – Join us for a special gathering after the Liturgy! Pasta will also be served (free for kids under 12 years old). \n\n\n\nAll proceeds will benefit the Hellenic College Holy Cross
URL:https://transfigurationcorona.com/event/fasolada-sunday/
LOCATION:New York
END:VEVENT
BEGIN:VEVENT
DTSTART;TZID=America/New_York:20260315T100000
DTEND;TZID=America/New_York:20260315T113000
DTSTAMP:20260425T121843
CREATED:20260226T180534Z
LAST-MODIFIED:20260312T200945Z
UID:3135-1773568800-1773574200@transfigurationcorona.com
SUMMARY:Divine Liturgy
DESCRIPTION:3rd Sunday of Lent Veneration of the Holy Cross\n\n\n\nThe Third Sunday of Lent is that of the Veneration of the Holy Cross. The cross stands in the midst of the church in the middle of the Lenten season not merely to remind us of Christ’s redemption and to keep before us the goal of our efforts\, but also to be venerated as that reality by which humanity must live to be saved. “He who does not take up his cross and follow me is not worthy of me” (Mt.10:38). For in the Cross of Christ Crucified lies both “the power of God and the wisdom of God” for those being saved (1 Cor.1:24).
URL:https://transfigurationcorona.com/event/divine-liturgy-5-2-2-2/
LOCATION:New York
END:VEVENT
END:VCALENDAR