BEGIN:VCALENDAR
VERSION:2.0
PRODID:-//Transfiguration of Christ Greek Orthodox Church - ECPv6.13.2.1//NONSGML v1.0//EN
CALSCALE:GREGORIAN
METHOD:PUBLISH
X-WR-CALNAME:Transfiguration of Christ Greek Orthodox Church
X-ORIGINAL-URL:https://transfigurationcorona.com
X-WR-CALDESC:Events for Transfiguration of Christ Greek Orthodox Church
REFRESH-INTERVAL;VALUE=DURATION:PT1H
X-Robots-Tag:noindex
X-PUBLISHED-TTL:PT1H
BEGIN:VTIMEZONE
TZID:America/New_York
BEGIN:DAYLIGHT
TZOFFSETFROM:-0500
TZOFFSETTO:-0400
TZNAME:EDT
DTSTART:20260308T070000
END:DAYLIGHT
BEGIN:STANDARD
TZOFFSETFROM:-0400
TZOFFSETTO:-0500
TZNAME:EST
DTSTART:20261101T060000
END:STANDARD
END:VTIMEZONE
BEGIN:VEVENT
DTSTART;TZID=America/New_York:20260426T083000
DTEND;TZID=America/New_York:20260426T100000
DTSTAMP:20260423T130048
CREATED:20260405T003133Z
LAST-MODIFIED:20260405T003134Z
UID:3704-1777192200-1777197600@transfigurationcorona.com
SUMMARY:Orthros
DESCRIPTION:
URL:https://transfigurationcorona.com/event/orthros-4/
LOCATION:Transfiguration of Christ Greek Orthodox Church\, 38-05 98th Street\, Corona\, New York\, 11368
END:VEVENT
BEGIN:VEVENT
DTSTART;TZID=America/New_York:20260426T100000
DTEND;TZID=America/New_York:20260426T113000
DTSTAMP:20260423T130048
CREATED:20260405T003203Z
LAST-MODIFIED:20260405T003203Z
UID:3706-1777197600-1777203000@transfigurationcorona.com
SUMMARY:Divine Liturgy
DESCRIPTION:
URL:https://transfigurationcorona.com/event/divine-liturgy-7/
LOCATION:Transfiguration of Christ Greek Orthodox Church\, 38-05 98th Street\, Corona\, New York\, 11368
END:VEVENT
BEGIN:VEVENT
DTSTART;TZID=America/New_York:20260426T133000
DTEND;TZID=America/New_York:20260426T170000
DTSTAMP:20260423T130048
CREATED:20260226T182757Z
LAST-MODIFIED:20260306T203956Z
UID:3147-1777210200-1777222800@transfigurationcorona.com
SUMMARY:Greek Independence Day Parade
DESCRIPTION:1821 – 205th Anniversary of the Hellenic Independence. Join us for the 2026 Greek Independence Day parade.
URL:https://transfigurationcorona.com/event/greek-independence-day-parade/
LOCATION:New York
END:VEVENT
BEGIN:VEVENT
DTSTART;TZID=America/New_York:20260516T180000
DTEND;TZID=America/New_York:20260516T230000
DTSTAMP:20260423T130048
CREATED:20260310T005502Z
LAST-MODIFIED:20260310T005646Z
UID:3529-1778954400-1778972400@transfigurationcorona.com
SUMMARY:Centennial Gala (RSVP Required)
DESCRIPTION:Complimentary to all parishioners and invited guests. \n\n\n\nJoin parishioners\, friends\, and honored guests for this historic milestone event.The evening will celebrate the rich history of our parish and the generations who helped build and sustain our community in Corona.For additional information\, please contact the parish office. Kindly RSVP by May 1. \n\n\n\nPhone: 718-458-5251Email: 100Transfiguration@gmail.com
URL:https://transfigurationcorona.com/event/centennial-gala-rsvp-required/
LOCATION:Terrace on the Park\, 52-11 111th Street\, Corona\, New York\, 11368\, United States
END:VEVENT
END:VCALENDAR