BEGIN:VCALENDAR
VERSION:2.0
PRODID:-//Transfiguration of Christ Greek Orthodox Church - ECPv6.13.2.1//NONSGML v1.0//EN
CALSCALE:GREGORIAN
METHOD:PUBLISH
X-WR-CALNAME:Transfiguration of Christ Greek Orthodox Church
X-ORIGINAL-URL:https://transfigurationcorona.com
X-WR-CALDESC:Events for Transfiguration of Christ Greek Orthodox Church
REFRESH-INTERVAL;VALUE=DURATION:PT1H
X-Robots-Tag:noindex
X-PUBLISHED-TTL:PT1H
BEGIN:VTIMEZONE
TZID:America/New_York
BEGIN:DAYLIGHT
TZOFFSETFROM:-0500
TZOFFSETTO:-0400
TZNAME:EDT
DTSTART:20220313T070000
END:DAYLIGHT
BEGIN:STANDARD
TZOFFSETFROM:-0400
TZOFFSETTO:-0500
TZNAME:EST
DTSTART:20221106T060000
END:STANDARD
BEGIN:DAYLIGHT
TZOFFSETFROM:-0500
TZOFFSETTO:-0400
TZNAME:EDT
DTSTART:20230312T070000
END:DAYLIGHT
BEGIN:STANDARD
TZOFFSETFROM:-0400
TZOFFSETTO:-0500
TZNAME:EST
DTSTART:20231105T060000
END:STANDARD
BEGIN:DAYLIGHT
TZOFFSETFROM:-0500
TZOFFSETTO:-0400
TZNAME:EDT
DTSTART:20240310T070000
END:DAYLIGHT
BEGIN:STANDARD
TZOFFSETFROM:-0400
TZOFFSETTO:-0500
TZNAME:EST
DTSTART:20241103T060000
END:STANDARD
BEGIN:DAYLIGHT
TZOFFSETFROM:-0500
TZOFFSETTO:-0400
TZNAME:EDT
DTSTART:20250309T070000
END:DAYLIGHT
BEGIN:STANDARD
TZOFFSETFROM:-0400
TZOFFSETTO:-0500
TZNAME:EST
DTSTART:20251102T060000
END:STANDARD
BEGIN:DAYLIGHT
TZOFFSETFROM:-0500
TZOFFSETTO:-0400
TZNAME:EDT
DTSTART:20260308T070000
END:DAYLIGHT
BEGIN:STANDARD
TZOFFSETFROM:-0400
TZOFFSETTO:-0500
TZNAME:EST
DTSTART:20261101T060000
END:STANDARD
END:VTIMEZONE
BEGIN:VEVENT
DTSTART;TZID=America/New_York:20260315T100000
DTEND;TZID=America/New_York:20260315T113000
DTSTAMP:20260425T121024
CREATED:20260226T180534Z
LAST-MODIFIED:20260312T200945Z
UID:3135-1773568800-1773574200@transfigurationcorona.com
SUMMARY:Divine Liturgy
DESCRIPTION:3rd Sunday of Lent Veneration of the Holy Cross\n\n\n\nThe Third Sunday of Lent is that of the Veneration of the Holy Cross. The cross stands in the midst of the church in the middle of the Lenten season not merely to remind us of Christ’s redemption and to keep before us the goal of our efforts\, but also to be venerated as that reality by which humanity must live to be saved. “He who does not take up his cross and follow me is not worthy of me” (Mt.10:38). For in the Cross of Christ Crucified lies both “the power of God and the wisdom of God” for those being saved (1 Cor.1:24).
URL:https://transfigurationcorona.com/event/divine-liturgy-5-2-2-2/
LOCATION:New York
END:VEVENT
BEGIN:VEVENT
DTSTART;TZID=America/New_York:20260315T083000
DTEND;TZID=America/New_York:20260315T100000
DTSTAMP:20260425T121024
CREATED:20260226T180122Z
LAST-MODIFIED:20260312T202221Z
UID:3130-1773563400-1773568800@transfigurationcorona.com
SUMMARY:Orthros
DESCRIPTION:3rd Sunday of Lent Veneration of the Holy Cross\n\n\n\nThe Third Sunday of Lent is that of the Veneration of the Holy Cross. The cross stands in the midst of the church in the middle of the Lenten season not merely to remind us of Christ’s redemption and to keep before us the goal of our efforts\, but also to be venerated as that reality by which humanity must live to be saved. “He who does not take up his cross and follow me is not worthy of me” (Mt.10:38). For in the Cross of Christ Crucified lies both “the power of God and the wisdom of God” for those being saved (1 Cor.1:24).
URL:https://transfigurationcorona.com/event/orthros-2-2-2/
LOCATION:New York
END:VEVENT
BEGIN:VEVENT
DTSTART;TZID=America/New_York:20260314T190000
DTEND;TZID=America/New_York:20260314T210000
DTSTAMP:20260425T121024
CREATED:20260306T185738Z
LAST-MODIFIED:20260306T190620Z
UID:3407-1773514800-1773522000@transfigurationcorona.com
SUMMARY:A Concert of Byzantine Music
DESCRIPTION:Featuring the Byzantine Choir of the Romanos the Melodist Chanters Society of New York. \n\n\n\nThe Transfiguration of Christ Greek Orthodox Church invites you to a special evening of sacred music featuring the Byzantine Choir of the Romanos the Melodist Chanters Society of New York. \n\n\n\nThe concert will present selections from the beautiful hymnology of Holy and Great Lent\, offering a prayerful reflection through the rich tradition of Byzantine chant. \n\n\n\nAdmission: Free and open to the public \n\n\n\nScreenshot
URL:https://transfigurationcorona.com/event/a-concert-of-byzantine-music/
LOCATION:Transfiguration of Christ Greek Orthodox Church\, 38-05 98th Street\, Corona\, New York\, 11368
END:VEVENT
BEGIN:VEVENT
DTSTART;TZID=America/New_York:20260313T190000
DTEND;TZID=America/New_York:20260313T203000
DTSTAMP:20260425T121024
CREATED:20260226T183828Z
LAST-MODIFIED:20260226T183829Z
UID:3161-1773428400-1773433800@transfigurationcorona.com
SUMMARY:3rd Salutations
DESCRIPTION:
URL:https://transfigurationcorona.com/event/3rd-salutations/
LOCATION:New York
END:VEVENT
BEGIN:VEVENT
DTSTART;TZID=America/New_York:20260311T183000
DTEND;TZID=America/New_York:20260311T193000
DTSTAMP:20260425T121024
CREATED:20260226T183709Z
LAST-MODIFIED:20260226T183709Z
UID:3159-1773253800-1773257400@transfigurationcorona.com
SUMMARY:Presanctified Liturgy
DESCRIPTION:
URL:https://transfigurationcorona.com/event/presanctified-liturgy-8/
LOCATION:New York
END:VEVENT
BEGIN:VEVENT
DTSTART;TZID=America/New_York:20260309T183000
DTEND;TZID=America/New_York:20260309T193000
DTSTAMP:20260425T121024
CREATED:20260226T183625Z
LAST-MODIFIED:20260226T183625Z
UID:3157-1773081000-1773084600@transfigurationcorona.com
SUMMARY:Great Compline
DESCRIPTION:
URL:https://transfigurationcorona.com/event/great-compline-5/
LOCATION:New York
END:VEVENT
BEGIN:VEVENT
DTSTART;TZID=America/New_York:20260308T100000
DTEND;TZID=America/New_York:20260308T113000
DTSTAMP:20260425T121024
CREATED:20260226T175531Z
LAST-MODIFIED:20260226T182246Z
UID:3061-1772964000-1772969400@transfigurationcorona.com
SUMMARY:Divine Liturgy
DESCRIPTION:
URL:https://transfigurationcorona.com/event/divine-liturgy-5-2/
LOCATION:New York
END:VEVENT
BEGIN:VEVENT
DTSTART;TZID=America/New_York:20260308T083000
DTEND;TZID=America/New_York:20260308T100000
DTSTAMP:20260425T121024
CREATED:20260226T175510Z
LAST-MODIFIED:20260226T175511Z
UID:3062-1772958600-1772964000@transfigurationcorona.com
SUMMARY:Orthros
DESCRIPTION:
URL:https://transfigurationcorona.com/event/orthros-2-2/
LOCATION:New York
END:VEVENT
BEGIN:VEVENT
DTSTART;TZID=America/New_York:20260306T190000
DTEND;TZID=America/New_York:20260306T203000
DTSTAMP:20260425T121024
CREATED:20260226T183549Z
LAST-MODIFIED:20260226T183550Z
UID:3155-1772823600-1772829000@transfigurationcorona.com
SUMMARY:2nd Salutations
DESCRIPTION:
URL:https://transfigurationcorona.com/event/2nd-salutations/
LOCATION:New York
END:VEVENT
BEGIN:VEVENT
DTSTART;TZID=America/New_York:20260304T183000
DTEND;TZID=America/New_York:20260304T193000
DTSTAMP:20260425T121024
CREATED:20260226T183444Z
LAST-MODIFIED:20260226T183445Z
UID:3153-1772649000-1772652600@transfigurationcorona.com
SUMMARY:Presanctified Liturgy
DESCRIPTION:
URL:https://transfigurationcorona.com/event/presanctified-liturgy-7/
LOCATION:New York
END:VEVENT
BEGIN:VEVENT
DTSTART;TZID=America/New_York:20260302T183000
DTEND;TZID=America/New_York:20260302T193000
DTSTAMP:20260425T121024
CREATED:20260226T183200Z
LAST-MODIFIED:20260226T183201Z
UID:3151-1772476200-1772479800@transfigurationcorona.com
SUMMARY:Great Compline
DESCRIPTION:
URL:https://transfigurationcorona.com/event/great-compline-4/
LOCATION:New York
END:VEVENT
BEGIN:VEVENT
DTSTART;TZID=America/New_York:20260301T100000
DTEND;TZID=America/New_York:20260301T113000
DTSTAMP:20260425T121024
CREATED:20260224T213408Z
LAST-MODIFIED:20260226T182954Z
UID:3057-1772359200-1772364600@transfigurationcorona.com
SUMMARY:Divine Liturgy
DESCRIPTION:Memorial Services:• Aikaterini Monokrousou Damala (40 Days)• Angelo Damalas (6 Years) \n\n\n\n• Margarita Siklas (1 Year)
URL:https://transfigurationcorona.com/event/divine-liturgy-5/
LOCATION:New York
END:VEVENT
BEGIN:VEVENT
DTSTART;TZID=America/New_York:20260301T083000
DTEND;TZID=America/New_York:20260301T100000
DTSTAMP:20260425T121024
CREATED:20260224T212755Z
LAST-MODIFIED:20260226T182151Z
UID:3052-1772353800-1772359200@transfigurationcorona.com
SUMMARY:Orthros
DESCRIPTION:
URL:https://transfigurationcorona.com/event/orthros/
LOCATION:New York
END:VEVENT
BEGIN:VEVENT
DTSTART;TZID=America/New_York:20230926T090000
DTEND;TZID=America/New_York:20230926T110000
DTSTAMP:20260425T121024
CREATED:20230914T032812Z
LAST-MODIFIED:20230914T034119Z
UID:3001-1695718800-1695726000@transfigurationcorona.com
SUMMARY:Μετάστασις Ἀποστόλου καὶ Εὐαγγελιστοῦ Ἱωάννου τοῦ Θεολόγου -- The Falling Asleep of St. John the Apostle\, Evangelist\, and Theologian
DESCRIPTION:Ὄρθρος καὶ Θεία Λειτουργία 9:00 πμ -11:00 πμ *** Orthros and Divine Liturgy 9:00 am – 11:00 am
URL:https://transfigurationcorona.com/event/%ce%bc%ce%b5%cf%84%ce%ac%cf%83%cf%84%ce%b1%cf%83%ce%b9%cf%82-%e1%bc%80%cf%80%ce%bf%cf%83%cf%84%cf%8c%ce%bb%ce%bf%cf%85-%ce%ba%ce%b1%e1%bd%b6-%ce%b5%e1%bd%90%ce%b1%ce%b3%ce%b3%ce%b5%ce%bb%ce%b9%cf%83/
LOCATION:New York
END:VEVENT
BEGIN:VEVENT
DTSTART;TZID=America/New_York:20230917T083000
DTEND;TZID=America/New_York:20230917T113000
DTSTAMP:20260425T121024
CREATED:20230914T034430Z
LAST-MODIFIED:20230914T035045Z
UID:3019-1694939400-1694950200@transfigurationcorona.com
SUMMARY:Κυριακὴ μετὰ τὴν Ὕψωσιν -- Sunday after the Elevation
DESCRIPTION:Ὄρθρος καὶ Θεία Λειτουργία 8:30 πμ – 11:30 πμ *** Orthros and Divine Liturgy 8:30 am – 11:30 am
URL:https://transfigurationcorona.com/event/%ce%ba%cf%85%cf%81%ce%b9%ce%b1%ce%ba%e1%bd%b4-%ce%bc%ce%b5%cf%84%e1%bd%b0-%cf%84%e1%bd%b4%ce%bd-%e1%bd%95%cf%88%cf%89%cf%83%ce%b9%ce%bd-sunday-after-the-elevation/
LOCATION:New York
END:VEVENT
BEGIN:VEVENT
DTSTART;TZID=America/New_York:20230914T090000
DTEND;TZID=America/New_York:20230914T113000
DTSTAMP:20260425T121024
CREATED:20230914T032152Z
LAST-MODIFIED:20230914T034027Z
UID:2997-1694682000-1694691000@transfigurationcorona.com
SUMMARY:Ὕψωσις τοῦ Τιμίου Σταυροῦ — The Elevation of the Precious Cross
DESCRIPTION:Ὄρθρος καὶ Θεία Λειτουργία 9:00 πμ – 11:30 πμ *** Orthros and Divine Liturgy 9:00 am – 11:30 am
URL:https://transfigurationcorona.com/event/%e1%bd%95%cf%88%cf%89%cf%83%ce%b9%cf%82-%cf%84%ce%bf%e1%bf%a6-%cf%84%ce%b9%ce%bc%ce%af%ce%bf%cf%85-%cf%83%cf%84%ce%b1%cf%85%cf%81%ce%bf%e1%bf%a6-the-elevation-of-the-precious-cross/
LOCATION:New York
END:VEVENT
BEGIN:VEVENT
DTSTART;TZID=America/New_York:20220710T083000
DTEND;TZID=America/New_York:20220710T083000
DTSTAMP:20260425T121024
CREATED:20220708T204638Z
LAST-MODIFIED:20220708T204638Z
UID:2946-1657441800-1657441800@transfigurationcorona.com
SUMMARY:Sunday Services
DESCRIPTION:Orthros – 8:30 am \n\n\n\nDivine Liturgy – 10:30 am
URL:https://transfigurationcorona.com/event/sunday-services/
LOCATION:New York
END:VEVENT
BEGIN:VEVENT
DTSTART;TZID=America/New_York:20220630T090000
DTEND;TZID=America/New_York:20220630T110000
DTSTAMP:20260425T121024
CREATED:20220619T021110Z
LAST-MODIFIED:20220619T021110Z
UID:2900-1656579600-1656586800@transfigurationcorona.com
SUMMARY:Synaxis of the 12 Apostles
DESCRIPTION:
URL:https://transfigurationcorona.com/event/synaxis-of-the-12-apostles/
LOCATION:New York
END:VEVENT
BEGIN:VEVENT
DTSTART;TZID=America/New_York:20220629T090000
DTEND;TZID=America/New_York:20220629T110000
DTSTAMP:20260425T121024
CREATED:20220619T021023Z
LAST-MODIFIED:20220619T021023Z
UID:2898-1656493200-1656500400@transfigurationcorona.com
SUMMARY:Sts. Peter and Paul the Apostles
DESCRIPTION:
URL:https://transfigurationcorona.com/event/sts-peter-and-paul-the-apostles/
LOCATION:New York
END:VEVENT
BEGIN:VEVENT
DTSTART;TZID=America/New_York:20220624T090000
DTEND;TZID=America/New_York:20220624T110000
DTSTAMP:20260425T121024
CREATED:20220619T020920Z
LAST-MODIFIED:20220619T020920Z
UID:2896-1656061200-1656068400@transfigurationcorona.com
SUMMARY:Nativity of St. John the Forerunner
DESCRIPTION:
URL:https://transfigurationcorona.com/event/nativity-of-st-john-the-forerunner/
LOCATION:New York
END:VEVENT
BEGIN:VEVENT
DTSTART;TZID=America/New_York:20220507T080000
DTEND;TZID=America/New_York:20220507T140000
DTSTAMP:20260425T121024
CREATED:20220429T024045Z
LAST-MODIFIED:20220429T024226Z
UID:2769-1651910400-1651932000@transfigurationcorona.com
SUMMARY:Blood Drive
DESCRIPTION:Blood Drive at Transfiguration of Christ Church
URL:https://transfigurationcorona.com/event/blood-drive/
LOCATION:New York
ATTACH;FMTTYPE=image/png:https://transfigurationcorona.com/wp-content/uploads/2022/04/blooddrive.png
END:VEVENT
BEGIN:VEVENT
DTSTART;TZID=America/New_York:20220429T090000
DTEND;TZID=America/New_York:20220429T110000
DTSTAMP:20260425T121024
CREATED:20220415T193439Z
LAST-MODIFIED:20220415T193440Z
UID:2759-1651222800-1651230000@transfigurationcorona.com
SUMMARY:Life-Giving Fountain of the Theotokos
DESCRIPTION:Orthros – 9:00 am \n\n\n\nDivine Liturgy – 10:00 am
URL:https://transfigurationcorona.com/event/life-giving-fountain-of-the-theotokos/
LOCATION:New York
END:VEVENT
BEGIN:VEVENT
DTSTART;TZID=America/New_York:20220425T090000
DTEND;TZID=America/New_York:20220425T110000
DTSTAMP:20260425T121024
CREATED:20220415T193200Z
LAST-MODIFIED:20220415T193201Z
UID:2757-1650877200-1650884400@transfigurationcorona.com
SUMMARY:St. George the Great and Victorious Martyr
DESCRIPTION:Orthros – 9:00 am \n\n\n\nDivine Liturgy – 10:00 am
URL:https://transfigurationcorona.com/event/st-george-the-great-and-victorious-martyr/
LOCATION:New York
END:VEVENT
BEGIN:VEVENT
DTSTART;TZID=America/New_York:20220424T113000
DTEND;TZID=America/New_York:20220424T143000
DTSTAMP:20260425T121024
CREATED:20220409T183202Z
LAST-MODIFIED:20220415T194851Z
UID:2746-1650799800-1650810600@transfigurationcorona.com
SUMMARY:Easter Sunday
DESCRIPTION:Great Vespers of Pascha (AGAPE) – 1:30 am
URL:https://transfigurationcorona.com/event/holy-monday-3-2-3/
LOCATION:New York
END:VEVENT
BEGIN:VEVENT
DTSTART;TZID=America/New_York:20220423T090000
DTEND;TZID=America/New_York:20220423T233000
DTSTAMP:20260425T121024
CREATED:20220409T182750Z
LAST-MODIFIED:20220409T183243Z
UID:2744-1650704400-1650756600@transfigurationcorona.com
SUMMARY:Holy Saturday
DESCRIPTION:Divine Liturgy of Basil – 9:00 am \n\n\n\nCanon of Holy Saturday – 11:00 pm \n\n\n\nService of the Resurrection of our Lord andimmediately following Orthros and DivineLiturgy of the Resurrection – 12:00 am
URL:https://transfigurationcorona.com/event/holy-monday-3-2-2/
LOCATION:New York
END:VEVENT
BEGIN:VEVENT
DTSTART;TZID=America/New_York:20220422T113000
DTEND;TZID=America/New_York:20220422T210000
DTSTAMP:20260425T121024
CREATED:20220409T182502Z
LAST-MODIFIED:20220412T135303Z
UID:2742-1650627000-1650661200@transfigurationcorona.com
SUMMARY:Holy Friday
DESCRIPTION:Services of the Royal Hours and Apokathelosis – 11:30 am \n\n\n\nService of the Epitaphios – 7:00 pm \n\n\n\nProcession of the Epitaphios -9:00 pm
URL:https://transfigurationcorona.com/event/holy-monday-3-2/
LOCATION:New York
END:VEVENT
BEGIN:VEVENT
DTSTART;TZID=America/New_York:20220421T080000
DTEND;TZID=America/New_York:20220421T183000
DTSTAMP:20260425T121024
CREATED:20220409T182159Z
LAST-MODIFIED:20220412T135221Z
UID:2739-1650528000-1650565800@transfigurationcorona.com
SUMMARY:Holy Thursday
DESCRIPTION:Divite Liturgy of St. Basil – 9:00 am \n\n\n\nService of the Passion of Christ – 6:30 pm
URL:https://transfigurationcorona.com/event/holy-monday-4/
LOCATION:New York
END:VEVENT
BEGIN:VEVENT
DTSTART;TZID=America/New_York:20220420T080000
DTEND;TZID=America/New_York:20220420T190000
DTSTAMP:20260425T121024
CREATED:20220409T181830Z
LAST-MODIFIED:20220412T135128Z
UID:2736-1650441600-1650481200@transfigurationcorona.com
SUMMARY:Holy Wednesday
DESCRIPTION:Presanctified Liturgy – 9:00 am \n\n\n\nSacrament of the Holy Unction – 3:00 pm \n\n\n\nService of the Nyptiras (Washing of the Feet) – 7:00 pm
URL:https://transfigurationcorona.com/event/holy-monday-3/
LOCATION:New York
END:VEVENT
BEGIN:VEVENT
DTSTART;TZID=America/New_York:20220419T080000
DTEND;TZID=America/New_York:20220419T190000
DTSTAMP:20260425T121024
CREATED:20220409T181741Z
LAST-MODIFIED:20220419T000217Z
UID:2734-1650355200-1650394800@transfigurationcorona.com
SUMMARY:Holy Tuesday
DESCRIPTION:Presanctified Liturgy – 9:00 am \n\n\n\nService of the Bridegroom – 7:00 pm
URL:https://transfigurationcorona.com/event/holy-monday-2/
LOCATION:New York
END:VEVENT
BEGIN:VEVENT
DTSTART;TZID=America/New_York:20220418T090000
DTEND;TZID=America/New_York:20220418T190000
DTSTAMP:20260425T121024
CREATED:20220409T181340Z
LAST-MODIFIED:20220412T135028Z
UID:2732-1650272400-1650308400@transfigurationcorona.com
SUMMARY:Holy Monday
DESCRIPTION:Presanctified Liturgy – 9:00 am \n\n\n\nService of the Bridegroom – 7:00 pm
URL:https://transfigurationcorona.com/event/holy-monday/
LOCATION:New York
END:VEVENT
END:VCALENDAR