BEGIN:VCALENDAR
VERSION:2.0
PRODID:-//Transfiguration of Christ Greek Orthodox Church - ECPv6.13.2.1//NONSGML v1.0//EN
CALSCALE:GREGORIAN
METHOD:PUBLISH
X-WR-CALNAME:Transfiguration of Christ Greek Orthodox Church
X-ORIGINAL-URL:https://transfigurationcorona.com
X-WR-CALDESC:Events for Transfiguration of Christ Greek Orthodox Church
REFRESH-INTERVAL;VALUE=DURATION:PT1H
X-Robots-Tag:noindex
X-PUBLISHED-TTL:PT1H
BEGIN:VTIMEZONE
TZID:America/New_York
BEGIN:DAYLIGHT
TZOFFSETFROM:-0500
TZOFFSETTO:-0400
TZNAME:EDT
DTSTART:20220313T070000
END:DAYLIGHT
BEGIN:STANDARD
TZOFFSETFROM:-0400
TZOFFSETTO:-0500
TZNAME:EST
DTSTART:20221106T060000
END:STANDARD
END:VTIMEZONE
BEGIN:VEVENT
DTSTART;TZID=America/New_York:20220318T190000
DTEND;TZID=America/New_York:20220318T203000
DTSTAMP:20260425T193913
CREATED:20220302T092537Z
LAST-MODIFIED:20220302T092539Z
UID:2455-1647630000-1647635400@transfigurationcorona.com
SUMMARY:Second Salutations
DESCRIPTION:
URL:https://transfigurationcorona.com/event/presanctified-liturgy-5/
END:VEVENT
BEGIN:VEVENT
DTSTART;TZID=America/New_York:20220318T050000
DTEND;TZID=America/New_York:20220318T063000
DTSTAMP:20260425T193913
CREATED:20220302T092335Z
LAST-MODIFIED:20220302T092339Z
UID:2453-1647579600-1647585000@transfigurationcorona.com
SUMMARY:Presanctified Liturgy
DESCRIPTION:
URL:https://transfigurationcorona.com/event/presanctified-liturgy-4/
END:VEVENT
BEGIN:VEVENT
DTSTART;TZID=America/New_York:20220316T143000
DTEND;TZID=America/New_York:20220316T160000
DTSTAMP:20260425T193913
CREATED:20220302T092219Z
LAST-MODIFIED:20220302T092222Z
UID:2451-1647441000-1647446400@transfigurationcorona.com
SUMMARY:Presanctified Liturgy
DESCRIPTION:
URL:https://transfigurationcorona.com/event/presanctified-liturgy-3/
END:VEVENT
BEGIN:VEVENT
DTSTART;TZID=America/New_York:20220314T143000
DTEND;TZID=America/New_York:20220314T153000
DTSTAMP:20260425T193913
CREATED:20220302T092128Z
LAST-MODIFIED:20220302T092133Z
UID:2449-1647268200-1647271800@transfigurationcorona.com
SUMMARY:Great Compline
DESCRIPTION:
URL:https://transfigurationcorona.com/event/great-compline-2/
END:VEVENT
BEGIN:VEVENT
DTSTART;TZID=America/New_York:20220313T150000
DTEND;TZID=America/New_York:20220313T170000
DTSTAMP:20260425T193913
CREATED:20220301T010159Z
LAST-MODIFIED:20220301T010201Z
UID:2299-1647183600-1647190800@transfigurationcorona.com
SUMMARY:His Eminence\, Archbishop Elpidophoros will be presiding during the service of Sunday Evening Vespers During Great Lent (a.k.a. Contrition Vespers).
DESCRIPTION:On the evening of Sunday March 13th at 7:00pm we will have the distinct honor and blessing to have with us His Eminence\, Archbishop Elpidophoros presiding during the service of Sunday Evening Vespers During Great Lent (a.k.a. Contrition Vespers). This is a beautiful somber service only offered during Great Lent. Please make every effort to attend as it will be a distinctive experience and blessing to all who are present at this unique service led by our Chief Shepherd and Hierarch the Archbishop. Following the service there will be a light Lenten meal offered in the Hall of the church. \n\n\n\nΤο βράδυ της Κυριακής 13 Μαρτίου στις 7:00μμ θα έχουμε την εξέχουσα τιμή και ευλογία να παρευρίσκεται μαζί μας ο Σεβασμιότατος Αρχιεπίσκοπος Αμερικής κ.Ελπιδοφόρος που θα χοροστατήσει στην ακολουθία  τοῦ Κατανυκτικού Εσπερινού. Είναι μια πολύ ωραία κατανυκτική ακολουθία που τελείται μόνο κατά την διάρκεια τής Μεγάλης Τεσσαρακοστής. Παρακαλώ θερμά όπως καταβάλλετε κάθε δυνατή προσπάθεια να παρευρεθείτε καθώς θα αποτελέσει μια ιδιαίτερη εμπειρία και ευλογία για όλους μας να έχουμε τον Ποιμένα και Ιεράρχη μας στην μοναδική αυτή ακολουθία. Μετά το πέρας τις ακολουθίας θα προσφερθεί ένα ελαφρύ νηστίσιμο γεύμα στην αίθουσα της εκκλησίας.
URL:https://transfigurationcorona.com/event/his-eminence-archbishop-elpidophoros-will-be-presiding-during-the-service-of-sunday-evening-vespers-during-great-lent-a-k-a-contrition-vespers/
END:VEVENT
BEGIN:VEVENT
DTSTART;TZID=America/New_York:20220312T050000
DTEND;TZID=America/New_York:20220312T060000
DTSTAMP:20260425T193913
CREATED:20220302T091955Z
LAST-MODIFIED:20220302T091958Z
UID:2446-1647061200-1647064800@transfigurationcorona.com
SUMMARY:Divine Liturgy
DESCRIPTION:Orthros at 9 am
URL:https://transfigurationcorona.com/event/divine-liturgy-2/
END:VEVENT
BEGIN:VEVENT
DTSTART;TZID=America/New_York:20220311T140000
DTEND;TZID=America/New_York:20220311T150000
DTSTAMP:20260425T193913
CREATED:20220302T091829Z
LAST-MODIFIED:20220302T091834Z
UID:2444-1647007200-1647010800@transfigurationcorona.com
SUMMARY:First Salutations
DESCRIPTION:
URL:https://transfigurationcorona.com/event/first-salutations/
END:VEVENT
BEGIN:VEVENT
DTSTART;TZID=America/New_York:20220311T040000
DTEND;TZID=America/New_York:20220311T053000
DTSTAMP:20260425T193913
CREATED:20220302T091737Z
LAST-MODIFIED:20220302T091742Z
UID:2442-1646971200-1646976600@transfigurationcorona.com
SUMMARY:Presanctified Liturgy
DESCRIPTION:
URL:https://transfigurationcorona.com/event/presanctified-liturgy-2/
END:VEVENT
BEGIN:VEVENT
DTSTART;TZID=America/New_York:20220309T133000
DTEND;TZID=America/New_York:20220309T150000
DTSTAMP:20260425T193913
CREATED:20220302T091553Z
LAST-MODIFIED:20220302T091559Z
UID:2440-1646832600-1646838000@transfigurationcorona.com
SUMMARY:Presanctified Liturgy
DESCRIPTION:
URL:https://transfigurationcorona.com/event/presanctified-liturgy/
END:VEVENT
BEGIN:VEVENT
DTSTART;TZID=America/New_York:20220307T183000
DTEND;TZID=America/New_York:20220307T193000
DTSTAMP:20260425T193913
CREATED:20220302T091452Z
LAST-MODIFIED:20220302T091457Z
UID:2438-1646677800-1646681400@transfigurationcorona.com
SUMMARY:Great Compline
DESCRIPTION:
URL:https://transfigurationcorona.com/event/great-compline/
END:VEVENT
BEGIN:VEVENT
DTSTART;TZID=America/New_York:20220306T140000
DTEND;TZID=America/New_York:20220306T150000
DTSTAMP:20260425T193913
CREATED:20220302T091207Z
LAST-MODIFIED:20220302T091222Z
UID:2436-1646575200-1646578800@transfigurationcorona.com
SUMMARY:Forgiveness Vespers
DESCRIPTION:
URL:https://transfigurationcorona.com/event/forgiveness-vespers/
END:VEVENT
BEGIN:VEVENT
DTSTART;TZID=America/New_York:20220305T050000
DTEND;TZID=America/New_York:20220305T060000
DTSTAMP:20260425T193913
CREATED:20220302T091043Z
LAST-MODIFIED:20220302T091050Z
UID:2434-1646456400-1646460000@transfigurationcorona.com
SUMMARY:Divine Liturgy
DESCRIPTION:
URL:https://transfigurationcorona.com/event/divine-liturgy/
END:VEVENT
END:VCALENDAR